BEGIN:VCALENDAR
VERSION:2.0
PRODID:-//NTCOG Youth Ja - ECPv6.15.20//NONSGML v1.0//EN
CALSCALE:GREGORIAN
METHOD:PUBLISH
X-WR-CALNAME:NTCOG Youth Ja
X-ORIGINAL-URL:https://ntcogyouthja.com
X-WR-CALDESC:Events for NTCOG Youth Ja
REFRESH-INTERVAL;VALUE=DURATION:PT1H
X-Robots-Tag:noindex
X-PUBLISHED-TTL:PT1H
BEGIN:VTIMEZONE
TZID:UTC
BEGIN:STANDARD
TZOFFSETFROM:+0000
TZOFFSETTO:+0000
TZNAME:UTC
DTSTART:20250101T000000
END:STANDARD
END:VTIMEZONE
BEGIN:VEVENT
DTSTART;VALUE=DATE:20260120
DTEND;VALUE=DATE:20260121
DTSTAMP:20260424T185423
CREATED:20251127T160020Z
LAST-MODIFIED:20251127T160020Z
UID:227557-1768867200-1768953599@ntcogyouthja.com
SUMMARY:Camp Workers’ Application Deadline
DESCRIPTION:
URL:https://ntcogyouthja.com/event/camp-workers-application-deadline-2/
LOCATION:National Office
CATEGORIES:National Youth & Discipleship
END:VEVENT
END:VCALENDAR