BEGIN:VCALENDAR
VERSION:2.0
PRODID:-//NTCOG Youth Ja - ECPv6.15.20//NONSGML v1.0//EN
CALSCALE:GREGORIAN
METHOD:PUBLISH
X-WR-CALNAME:NTCOG Youth Ja
X-ORIGINAL-URL:https://ntcogyouthja.com
X-WR-CALDESC:Events for NTCOG Youth Ja
REFRESH-INTERVAL;VALUE=DURATION:PT1H
X-Robots-Tag:noindex
X-PUBLISHED-TTL:PT1H
BEGIN:VTIMEZONE
TZID:UTC
BEGIN:STANDARD
TZOFFSETFROM:+0000
TZOFFSETTO:+0000
TZNAME:UTC
DTSTART:20240101T000000
END:STANDARD
END:VTIMEZONE
BEGIN:VEVENT
DTSTART;TZID=UTC:20250321T080000
DTEND;TZID=UTC:20250321T170000
DTSTAMP:20260424T215338
CREATED:20241120T231213Z
LAST-MODIFIED:20241120T231213Z
UID:226592-1742544000-1742576400@ntcogyouthja.com
SUMMARY:Camp Workers' Application Deadline
DESCRIPTION:
URL:https://ntcogyouthja.com/event/camp-workers-application-deadline/
LOCATION:National Office
CATEGORIES:National Youth & Discipleship
END:VEVENT
END:VCALENDAR