BEGIN:VCALENDAR
VERSION:2.0
PRODID:-//NTCOG Youth Ja - ECPv6.15.20//NONSGML v1.0//EN
CALSCALE:GREGORIAN
METHOD:PUBLISH
X-WR-CALNAME:NTCOG Youth Ja
X-ORIGINAL-URL:https://ntcogyouthja.com
X-WR-CALDESC:Events for NTCOG Youth Ja
REFRESH-INTERVAL;VALUE=DURATION:PT1H
X-Robots-Tag:noindex
X-PUBLISHED-TTL:PT1H
BEGIN:VTIMEZONE
TZID:UTC
BEGIN:STANDARD
TZOFFSETFROM:+0000
TZOFFSETTO:+0000
TZNAME:UTC
DTSTART:20240101T000000
END:STANDARD
END:VTIMEZONE
BEGIN:VEVENT
DTSTART;TZID=UTC:20250423T083000
DTEND;TZID=UTC:20250423T143000
DTSTAMP:20260424T220036
CREATED:20250408T221443Z
LAST-MODIFIED:20250408T221443Z
UID:226729-1745397000-1745418600@ntcogyouthja.com
SUMMARY:Centennial Leadership Impact Conference
DESCRIPTION:Theme “Reimagining the Future of Gospel Driven Ministry in a Changing World” \nFor further information\, contact the National Office at: (876)927-3712; (876)927-7767
URL:https://ntcogyouthja.com/event/centennial-leadership-impact-conference/
LOCATION:Convention Center
CATEGORIES:National Youth & Discipleship
ATTACH;FMTTYPE=image/jpeg:https://ntcogyouthja.com/wp-content/uploads/2025/04/Centennial-Leadership-Imact-Conference.jpg
END:VEVENT
END:VCALENDAR