BEGIN:VCALENDAR
VERSION:2.0
PRODID:-//NTCOG Youth Ja - ECPv6.15.20//NONSGML v1.0//EN
CALSCALE:GREGORIAN
METHOD:PUBLISH
X-WR-CALNAME:NTCOG Youth Ja
X-ORIGINAL-URL:https://ntcogyouthja.com
X-WR-CALDESC:Events for NTCOG Youth Ja
REFRESH-INTERVAL;VALUE=DURATION:PT1H
X-Robots-Tag:noindex
X-PUBLISHED-TTL:PT1H
BEGIN:VTIMEZONE
TZID:UTC
BEGIN:STANDARD
TZOFFSETFROM:+0000
TZOFFSETTO:+0000
TZNAME:UTC
DTSTART:20220101T000000
END:STANDARD
END:VTIMEZONE
BEGIN:VEVENT
DTSTART;TZID=UTC:20230318T100000
DTEND;TZID=UTC:20230318T150000
DTSTAMP:20260425T152432
CREATED:20230109T193712Z
LAST-MODIFIED:20230109T193712Z
UID:2273-1679133600-1679151600@ntcogyouthja.com
SUMMARY:Central Region Children's Ministry Training
DESCRIPTION:The cost for registration will be $1\,200 for each attendee. \nThis will cover the cost of food and materials.
URL:https://ntcogyouthja.com/event/central-region-childrens-ministry-training/
LOCATION:TBA
ORGANIZER;CN="National Children's Ministry":MAILTO:ntcogjachildrensministry@gmail.com
END:VEVENT
END:VCALENDAR