BEGIN:VCALENDAR
VERSION:2.0
PRODID:-//NTCOG Youth Ja - ECPv6.15.20//NONSGML v1.0//EN
CALSCALE:GREGORIAN
METHOD:PUBLISH
X-WR-CALNAME:NTCOG Youth Ja
X-ORIGINAL-URL:https://ntcogyouthja.com
X-WR-CALDESC:Events for NTCOG Youth Ja
REFRESH-INTERVAL;VALUE=DURATION:PT1H
X-Robots-Tag:noindex
X-PUBLISHED-TTL:PT1H
BEGIN:VTIMEZONE
TZID:UTC
BEGIN:STANDARD
TZOFFSETFROM:+0000
TZOFFSETTO:+0000
TZNAME:UTC
DTSTART:20240101T000000
END:STANDARD
END:VTIMEZONE
BEGIN:VEVENT
DTSTART;VALUE=DATE:20250308
DTEND;VALUE=DATE:20250309
DTSTAMP:20260424T232123
CREATED:20241120T172058Z
LAST-MODIFIED:20241120T172058Z
UID:226583-1741392000-1741478399@ntcogyouthja.com
SUMMARY:Children's & Teens' Bible Quiz Competition- Regional Playoffs
DESCRIPTION:Venues: \n\nEastwood Park NTCOG\nMay Pen NTCOG\nOracabessa NTCOG\nMontego Bay NTCOG
URL:https://ntcogyouthja.com/event/childrens-teens-bible-quiz-competition-regional-playoffs/
CATEGORIES:Talent Showcase
END:VEVENT
END:VCALENDAR