BEGIN:VCALENDAR
VERSION:2.0
PRODID:-//NTCOG Youth Ja - ECPv6.15.20//NONSGML v1.0//EN
CALSCALE:GREGORIAN
METHOD:PUBLISH
X-WR-CALNAME:NTCOG Youth Ja
X-ORIGINAL-URL:https://ntcogyouthja.com
X-WR-CALDESC:Events for NTCOG Youth Ja
REFRESH-INTERVAL;VALUE=DURATION:PT1H
X-Robots-Tag:noindex
X-PUBLISHED-TTL:PT1H
BEGIN:VTIMEZONE
TZID:UTC
BEGIN:STANDARD
TZOFFSETFROM:+0000
TZOFFSETTO:+0000
TZNAME:UTC
DTSTART:20220101T000000
END:STANDARD
END:VTIMEZONE
BEGIN:VEVENT
DTSTART;TZID=UTC:20230707T080000
DTEND;TZID=UTC:20230707T170000
DTSTAMP:20260425T120636
CREATED:20230224T172320Z
LAST-MODIFIED:20230224T172320Z
UID:2397-1688716800-1688749200@ntcogyouthja.com
SUMMARY:First Friday Prayers
DESCRIPTION:
URL:https://ntcogyouthja.com/event/first-friday-prayers-2/
LOCATION:Hanover
END:VEVENT
END:VCALENDAR