BEGIN:VCALENDAR
VERSION:2.0
PRODID:-//NTCOG Youth Ja - ECPv6.15.20//NONSGML v1.0//EN
CALSCALE:GREGORIAN
METHOD:PUBLISH
X-WR-CALNAME:NTCOG Youth Ja
X-ORIGINAL-URL:https://ntcogyouthja.com
X-WR-CALDESC:Events for NTCOG Youth Ja
REFRESH-INTERVAL;VALUE=DURATION:PT1H
X-Robots-Tag:noindex
X-PUBLISHED-TTL:PT1H
BEGIN:VTIMEZONE
TZID:UTC
BEGIN:STANDARD
TZOFFSETFROM:+0000
TZOFFSETTO:+0000
TZNAME:UTC
DTSTART:20240101T000000
END:STANDARD
END:VTIMEZONE
BEGIN:VEVENT
DTSTART;TZID=UTC:20251122T000000
DTEND;TZID=UTC:20251122T000000
DTSTAMP:20260424T185428
CREATED:20251124T014008Z
LAST-MODIFIED:20251124T014008Z
UID:227431-1763769600-1763769600@ntcogyouthja.com
SUMMARY:LOUD – Liberated
DESCRIPTION:A time of worship and thanksgiving. It includes a time of testimony and word to build hope and faith in the youth of Jamaica.
URL:https://ntcogyouthja.com/event/loud-liberated/
LOCATION:Portmore New Testament Church of God\, Jamaica
CATEGORIES:National Youth & Discipleship
END:VEVENT
END:VCALENDAR