BEGIN:VCALENDAR
VERSION:2.0
PRODID:-//NTCOG Youth Ja - ECPv6.15.20//NONSGML v1.0//EN
CALSCALE:GREGORIAN
METHOD:PUBLISH
X-WR-CALNAME:NTCOG Youth Ja
X-ORIGINAL-URL:https://ntcogyouthja.com
X-WR-CALDESC:Events for NTCOG Youth Ja
REFRESH-INTERVAL;VALUE=DURATION:PT1H
X-Robots-Tag:noindex
X-PUBLISHED-TTL:PT1H
BEGIN:VTIMEZONE
TZID:UTC
BEGIN:STANDARD
TZOFFSETFROM:+0000
TZOFFSETTO:+0000
TZNAME:UTC
DTSTART:20240101T000000
END:STANDARD
END:VTIMEZONE
BEGIN:VEVENT
DTSTART;VALUE=DATE:20250321
DTEND;VALUE=DATE:20250322
DTSTAMP:20260424T231308
CREATED:20241120T172543Z
LAST-MODIFIED:20241120T172543Z
UID:226587-1742515200-1742601599@ntcogyouthja.com
SUMMARY:National Talent Showcase Entries Deadline
DESCRIPTION:Deadline for National Finals entry fee.
URL:https://ntcogyouthja.com/event/national-talent-showcase-entries-deadline/
LOCATION:National Campsite
CATEGORIES:Talent Showcase
END:VEVENT
END:VCALENDAR