BEGIN:VCALENDAR
VERSION:2.0
PRODID:-//NTCOG Youth Ja - ECPv6.15.20//NONSGML v1.0//EN
CALSCALE:GREGORIAN
METHOD:PUBLISH
X-WR-CALNAME:NTCOG Youth Ja
X-ORIGINAL-URL:https://ntcogyouthja.com
X-WR-CALDESC:Events for NTCOG Youth Ja
REFRESH-INTERVAL;VALUE=DURATION:PT1H
X-Robots-Tag:noindex
X-PUBLISHED-TTL:PT1H
BEGIN:VTIMEZONE
TZID:UTC
BEGIN:STANDARD
TZOFFSETFROM:+0000
TZOFFSETTO:+0000
TZNAME:UTC
DTSTART:20250101T000000
END:STANDARD
END:VTIMEZONE
BEGIN:VEVENT
DTSTART;TZID=UTC:20260105T000000
DTEND;TZID=UTC:20260112T000000
DTSTAMP:20260424T190750
CREATED:20251125T012932Z
LAST-MODIFIED:20251125T013018Z
UID:227498-1767571200-1768176000@ntcogyouthja.com
SUMMARY:National Teens Week
DESCRIPTION:
URL:https://ntcogyouthja.com/event/national-teens-week-2026/
LOCATION:Local Churches
CATEGORIES:National Youth & Discipleship
END:VEVENT
END:VCALENDAR