BEGIN:VCALENDAR
VERSION:2.0
PRODID:-//NTCOG Youth Ja - ECPv6.15.20//NONSGML v1.0//EN
CALSCALE:GREGORIAN
METHOD:PUBLISH
X-WR-CALNAME:NTCOG Youth Ja
X-ORIGINAL-URL:https://ntcogyouthja.com
X-WR-CALDESC:Events for NTCOG Youth Ja
REFRESH-INTERVAL;VALUE=DURATION:PT1H
X-Robots-Tag:noindex
X-PUBLISHED-TTL:PT1H
BEGIN:VTIMEZONE
TZID:UTC
BEGIN:STANDARD
TZOFFSETFROM:+0000
TZOFFSETTO:+0000
TZNAME:UTC
DTSTART:20240101T000000
END:STANDARD
END:VTIMEZONE
BEGIN:VEVENT
DTSTART;VALUE=DATE:20250106
DTEND;VALUE=DATE:20250112
DTSTAMP:20260425T004136
CREATED:20240917T172202Z
LAST-MODIFIED:20241120T161857Z
UID:226492-1736121600-1736639999@ntcogyouthja.com
SUMMARY:National Teens Week
DESCRIPTION:
URL:https://ntcogyouthja.com/event/national-teens-week-4/
LOCATION:Local Churches
CATEGORIES:Teens
END:VEVENT
END:VCALENDAR