BEGIN:VCALENDAR
VERSION:2.0
PRODID:-//NTCOG Youth Ja - ECPv6.15.20//NONSGML v1.0//EN
CALSCALE:GREGORIAN
METHOD:PUBLISH
X-WR-CALNAME:NTCOG Youth Ja
X-ORIGINAL-URL:https://ntcogyouthja.com
X-WR-CALDESC:Events for NTCOG Youth Ja
REFRESH-INTERVAL;VALUE=DURATION:PT1H
X-Robots-Tag:noindex
X-PUBLISHED-TTL:PT1H
BEGIN:VTIMEZONE
TZID:UTC
BEGIN:STANDARD
TZOFFSETFROM:+0000
TZOFFSETTO:+0000
TZNAME:UTC
DTSTART:20240101T000000
END:STANDARD
END:VTIMEZONE
BEGIN:VEVENT
DTSTART;VALUE=DATE:20251018
DTEND;VALUE=DATE:20251019
DTSTAMP:20260424T190740
CREATED:20250925T233152Z
LAST-MODIFIED:20250925T234538Z
UID:226797-1760745600-1760831999@ntcogyouthja.com
SUMMARY:Regional Worker's Training: Central Region
DESCRIPTION:All Ministry arms will be conducting training and workshops in their varied ministry areas.
URL:https://ntcogyouthja.com/event/national-workers-training-central-region/
LOCATION:May Pen NTCOG
CATEGORIES:Ministries Leaders,National Youth & Discipleship
END:VEVENT
END:VCALENDAR