BEGIN:VCALENDAR
VERSION:2.0
PRODID:-//NTCOG Youth Ja - ECPv6.15.20//NONSGML v1.0//EN
CALSCALE:GREGORIAN
METHOD:PUBLISH
X-WR-CALNAME:NTCOG Youth Ja
X-ORIGINAL-URL:https://ntcogyouthja.com
X-WR-CALDESC:Events for NTCOG Youth Ja
REFRESH-INTERVAL;VALUE=DURATION:PT1H
X-Robots-Tag:noindex
X-PUBLISHED-TTL:PT1H
BEGIN:VTIMEZONE
TZID:UTC
BEGIN:STANDARD
TZOFFSETFROM:+0000
TZOFFSETTO:+0000
TZNAME:UTC
DTSTART:20220101T000000
END:STANDARD
END:VTIMEZONE
BEGIN:VEVENT
DTSTART;TZID=UTC:20230928T193000
DTEND;TZID=UTC:20230928T210000
DTSTAMP:20260425T104558
CREATED:20230921T180251Z
LAST-MODIFIED:20230921T180251Z
UID:5609-1695929400-1695934800@ntcogyouthja.com
SUMMARY:NTSM Student Linkz
DESCRIPTION:
URL:https://ntcogyouthja.com/event/ntsm-student-linkz/
LOCATION:Virtual
CATEGORIES:NTSM
ATTACH;FMTTYPE=image/jpeg:https://ntcogyouthja.com/wp-content/uploads/2022/10/IMG-20230920-WA0006.jpg
END:VEVENT
END:VCALENDAR