BEGIN:VCALENDAR
VERSION:2.0
PRODID:-//NTCOG Youth Ja - ECPv6.15.20//NONSGML v1.0//EN
CALSCALE:GREGORIAN
METHOD:PUBLISH
X-WR-CALNAME:NTCOG Youth Ja
X-ORIGINAL-URL:https://ntcogyouthja.com
X-WR-CALDESC:Events for NTCOG Youth Ja
REFRESH-INTERVAL;VALUE=DURATION:PT1H
X-Robots-Tag:noindex
X-PUBLISHED-TTL:PT1H
BEGIN:VTIMEZONE
TZID:UTC
BEGIN:STANDARD
TZOFFSETFROM:+0000
TZOFFSETTO:+0000
TZNAME:UTC
DTSTART:20250101T000000
END:STANDARD
END:VTIMEZONE
BEGIN:VEVENT
DTSTART;VALUE=DATE:20260124
DTEND;VALUE=DATE:20260125
DTSTAMP:20260424T190740
CREATED:20251125T014701Z
LAST-MODIFIED:20251125T014701Z
UID:227507-1769212800-1769299199@ntcogyouthja.com
SUMMARY:NYAM Fast\, Walk\, Pray\, Play
DESCRIPTION:
URL:https://ntcogyouthja.com/event/nyam-fast-walk-pray-play/
CATEGORIES:National Youth & Discipleship
END:VEVENT
END:VCALENDAR