BEGIN:VCALENDAR
VERSION:2.0
PRODID:-//NTCOG Youth Ja - ECPv6.15.20//NONSGML v1.0//EN
CALSCALE:GREGORIAN
METHOD:PUBLISH
X-WR-CALNAME:NTCOG Youth Ja
X-ORIGINAL-URL:https://ntcogyouthja.com
X-WR-CALDESC:Events for NTCOG Youth Ja
REFRESH-INTERVAL;VALUE=DURATION:PT1H
X-Robots-Tag:noindex
X-PUBLISHED-TTL:PT1H
BEGIN:VTIMEZONE
TZID:UTC
BEGIN:STANDARD
TZOFFSETFROM:+0000
TZOFFSETTO:+0000
TZNAME:UTC
DTSTART:20230101T000000
END:STANDARD
END:VTIMEZONE
BEGIN:VEVENT
DTSTART;TZID=UTC:20241012T100000
DTEND;TZID=UTC:20241012T130000
DTSTAMP:20260425T014944
CREATED:20240917T170517Z
LAST-MODIFIED:20241010T163625Z
UID:226488-1728727200-1728738000@ntcogyouthja.com
SUMMARY:Regional District & Local Workers Training
DESCRIPTION:Please be advised that on Saturday\, October 12\, 2024\, the Department will have its Youth Workers Training from 10:00a.m -1:00p.m. via the Zoom platform \nInvited are: District and Local Directors\, Ministry Leaders\, Sunday School and Youth Fellowship workers\, as well as interested persons.
URL:https://ntcogyouthja.com/event/regional-district-local-workers-training/
LOCATION:All Regions
ATTACH;FMTTYPE=image/jpeg:https://ntcogyouthja.com/wp-content/uploads/2024/09/WhatsApp-Image-2024-10-06-at-18.35.10_36eb53e4.jpg
END:VEVENT
END:VCALENDAR