BEGIN:VCALENDAR
VERSION:2.0
PRODID:-//NTCOG Youth Ja - ECPv6.15.20//NONSGML v1.0//EN
CALSCALE:GREGORIAN
METHOD:PUBLISH
X-WR-CALNAME:NTCOG Youth Ja
X-ORIGINAL-URL:https://ntcogyouthja.com
X-WR-CALDESC:Events for NTCOG Youth Ja
REFRESH-INTERVAL;VALUE=DURATION:PT1H
X-Robots-Tag:noindex
X-PUBLISHED-TTL:PT1H
BEGIN:VTIMEZONE
TZID:UTC
BEGIN:STANDARD
TZOFFSETFROM:+0000
TZOFFSETTO:+0000
TZNAME:UTC
DTSTART:20240101T000000
END:STANDARD
END:VTIMEZONE
BEGIN:VEVENT
DTSTART;VALUE=DATE:20251025
DTEND;VALUE=DATE:20251026
DTSTAMP:20260424T190430
CREATED:20250925T234133Z
LAST-MODIFIED:20250925T234133Z
UID:226799-1761350400-1761436799@ntcogyouthja.com
SUMMARY:Regional Worker's Training: Western Region
DESCRIPTION:All Ministry arms will be conducting training and workshops in their varied ministry areas.
URL:https://ntcogyouthja.com/event/regional-workers-training-western-region/
LOCATION:Montego Bay Church
CATEGORIES:Ministries Leaders,National Youth & Discipleship
END:VEVENT
END:VCALENDAR