BEGIN:VCALENDAR
VERSION:2.0
PRODID:-//NTCOG Youth Ja - ECPv6.15.20//NONSGML v1.0//EN
CALSCALE:GREGORIAN
METHOD:PUBLISH
X-WR-CALNAME:NTCOG Youth Ja
X-ORIGINAL-URL:https://ntcogyouthja.com
X-WR-CALDESC:Events for NTCOG Youth Ja
REFRESH-INTERVAL;VALUE=DURATION:PT1H
X-Robots-Tag:noindex
X-PUBLISHED-TTL:PT1H
BEGIN:VTIMEZONE
TZID:UTC
BEGIN:STANDARD
TZOFFSETFROM:+0000
TZOFFSETTO:+0000
TZNAME:UTC
DTSTART:20250101T000000
END:STANDARD
END:VTIMEZONE
BEGIN:VEVENT
DTSTART;VALUE=DATE:20260502
DTEND;VALUE=DATE:20260503
DTSTAMP:20260424T134006
CREATED:20251127T161319Z
LAST-MODIFIED:20251127T161319Z
UID:227571-1777680000-1777766399@ntcogyouthja.com
SUMMARY:Senior Sports Competitions – Eastern\, Central\, Northeastern & Western Regions
DESCRIPTION:
URL:https://ntcogyouthja.com/event/senior-sports-competitions-eastern-central-northeastern-western-regions/
CATEGORIES:National Youth & Discipleship
END:VEVENT
END:VCALENDAR