BEGIN:VCALENDAR
VERSION:2.0
PRODID:-//NTCOG Youth Ja - ECPv6.15.20//NONSGML v1.0//EN
CALSCALE:GREGORIAN
METHOD:PUBLISH
X-WR-CALNAME:NTCOG Youth Ja
X-ORIGINAL-URL:https://ntcogyouthja.com
X-WR-CALDESC:Events for NTCOG Youth Ja
REFRESH-INTERVAL;VALUE=DURATION:PT1H
X-Robots-Tag:noindex
X-PUBLISHED-TTL:PT1H
BEGIN:VTIMEZONE
TZID:UTC
BEGIN:STANDARD
TZOFFSETFROM:+0000
TZOFFSETTO:+0000
TZNAME:UTC
DTSTART:20220101T000000
END:STANDARD
END:VTIMEZONE
BEGIN:VEVENT
DTSTART;TZID=UTC:20230729T080000
DTEND;TZID=UTC:20230729T170000
DTSTAMP:20260425T105021
CREATED:20230224T171638Z
LAST-MODIFIED:20230224T171638Z
UID:2391-1690617600-1690650000@ntcogyouthja.com
SUMMARY:Sports Ministry Seminar
DESCRIPTION:
URL:https://ntcogyouthja.com/event/sports-ministry-seminar/
LOCATION:Convention Center
END:VEVENT
END:VCALENDAR