BEGIN:VCALENDAR
VERSION:2.0
PRODID:-//NTCOG Youth Ja - ECPv6.15.20//NONSGML v1.0//EN
CALSCALE:GREGORIAN
METHOD:PUBLISH
X-WR-CALNAME:NTCOG Youth Ja
X-ORIGINAL-URL:https://ntcogyouthja.com
X-WR-CALDESC:Events for NTCOG Youth Ja
REFRESH-INTERVAL;VALUE=DURATION:PT1H
X-Robots-Tag:noindex
X-PUBLISHED-TTL:PT1H
BEGIN:VTIMEZONE
TZID:UTC
BEGIN:STANDARD
TZOFFSETFROM:+0000
TZOFFSETTO:+0000
TZNAME:UTC
DTSTART:20240101T000000
END:STANDARD
END:VTIMEZONE
BEGIN:VEVENT
DTSTART;TZID=UTC:20250425T090000
DTEND;TZID=UTC:20250425T160000
DTSTAMP:20260424T215619
CREATED:20250408T223717Z
LAST-MODIFIED:20250408T223717Z
UID:226735-1745571600-1745596800@ntcogyouthja.com
SUMMARY:Talent Showcase - National Finals
DESCRIPTION:
URL:https://ntcogyouthja.com/event/talent-showcase-national-finals/
LOCATION:Convention Center
CATEGORIES:National Youth & Discipleship,Talent Showcase
END:VEVENT
END:VCALENDAR