BEGIN:VCALENDAR
VERSION:2.0
PRODID:-//NTCOG Youth Ja - ECPv6.15.20//NONSGML v1.0//EN
CALSCALE:GREGORIAN
METHOD:PUBLISH
X-WR-CALNAME:NTCOG Youth Ja
X-ORIGINAL-URL:https://ntcogyouthja.com
X-WR-CALDESC:Events for NTCOG Youth Ja
REFRESH-INTERVAL;VALUE=DURATION:PT1H
X-Robots-Tag:noindex
X-PUBLISHED-TTL:PT1H
BEGIN:VTIMEZONE
TZID:UTC
BEGIN:STANDARD
TZOFFSETFROM:+0000
TZOFFSETTO:+0000
TZNAME:UTC
DTSTART:20250101T000000
END:STANDARD
END:VTIMEZONE
BEGIN:VEVENT
DTSTART;VALUE=DATE:20260720
DTEND;VALUE=DATE:20260725
DTSTAMP:20260424T150707
CREATED:20251127T162351Z
LAST-MODIFIED:20251127T162351Z
UID:227587-1784505600-1784937599@ntcogyouthja.com
SUMMARY:Teens Camp Week 1
DESCRIPTION:
URL:https://ntcogyouthja.com/event/teens-camp-week-1-4/
LOCATION:Campsite\, St. Ann
CATEGORIES:National Youth & Discipleship
END:VEVENT
END:VCALENDAR