BEGIN:VCALENDAR
VERSION:2.0
PRODID:-//NTCOG Youth Ja - ECPv6.15.20//NONSGML v1.0//EN
CALSCALE:GREGORIAN
METHOD:PUBLISH
X-ORIGINAL-URL:https://ntcogyouthja.com
X-WR-CALDESC:Events for NTCOG Youth Ja
REFRESH-INTERVAL;VALUE=DURATION:PT1H
X-Robots-Tag:noindex
X-PUBLISHED-TTL:PT1H
BEGIN:VTIMEZONE
TZID:UTC
BEGIN:STANDARD
TZOFFSETFROM:+0000
TZOFFSETTO:+0000
TZNAME:UTC
DTSTART:20250101T000000
END:STANDARD
END:VTIMEZONE
BEGIN:VEVENT
DTSTART;VALUE=DATE:20260806
DTEND;VALUE=DATE:20270810
DTSTAMP:20260425T014541
CREATED:20251127T162722Z
LAST-MODIFIED:20251127T162722Z
UID:227593-1785974400-1817855999@ntcogyouthja.com
SUMMARY:National Youth Retreat
DESCRIPTION:
URL:https://ntcogyouthja.com/event/national-youth-retreat-2/
LOCATION:Campsite\, St. Ann
CATEGORIES:National Youth & Discipleship
END:VEVENT
END:VCALENDAR