BEGIN:VCALENDAR
VERSION:2.0
PRODID:-//NTCOG Youth Ja - ECPv6.15.20//NONSGML v1.0//EN
CALSCALE:GREGORIAN
METHOD:PUBLISH
X-WR-CALNAME:NTCOG Youth Ja
X-ORIGINAL-URL:https://ntcogyouthja.com
X-WR-CALDESC:Events for NTCOG Youth Ja
REFRESH-INTERVAL;VALUE=DURATION:PT1H
X-Robots-Tag:noindex
X-PUBLISHED-TTL:PT1H
BEGIN:VTIMEZONE
TZID:UTC
BEGIN:STANDARD
TZOFFSETFROM:+0000
TZOFFSETTO:+0000
TZNAME:UTC
DTSTART:20210101T000000
END:STANDARD
END:VTIMEZONE
BEGIN:VTIMEZONE
TZID:America/New_York
BEGIN:DAYLIGHT
TZOFFSETFROM:-0500
TZOFFSETTO:-0400
TZNAME:EDT
DTSTART:20220313T070000
END:DAYLIGHT
BEGIN:STANDARD
TZOFFSETFROM:-0400
TZOFFSETTO:-0500
TZNAME:EST
DTSTART:20221106T060000
END:STANDARD
BEGIN:DAYLIGHT
TZOFFSETFROM:-0500
TZOFFSETTO:-0400
TZNAME:EDT
DTSTART:20230312T070000
END:DAYLIGHT
BEGIN:STANDARD
TZOFFSETFROM:-0400
TZOFFSETTO:-0500
TZNAME:EST
DTSTART:20231105T060000
END:STANDARD
BEGIN:DAYLIGHT
TZOFFSETFROM:-0500
TZOFFSETTO:-0400
TZNAME:EDT
DTSTART:20240310T070000
END:DAYLIGHT
BEGIN:STANDARD
TZOFFSETFROM:-0400
TZOFFSETTO:-0500
TZNAME:EST
DTSTART:20241103T060000
END:STANDARD
END:VTIMEZONE
BEGIN:VEVENT
DTSTART;VALUE=DATE:20230225
DTEND;VALUE=DATE:20230226
DTSTAMP:20260425T162313
CREATED:20221228T185338Z
LAST-MODIFIED:20221228T185338Z
UID:2201-1677283200-1677369599@ntcogyouthja.com
SUMMARY:Regional District & Local Directors Training (Central)
DESCRIPTION:
URL:https://ntcogyouthja.com/event/regional-district-local-directors-training-central/
LOCATION:May Pen NTCOG
CATEGORIES:National Youth & Discipleship
END:VEVENT
BEGIN:VEVENT
DTSTART;TZID=UTC:20230224T000000
DTEND;TZID=UTC:20230224T190000
DTSTAMP:20260425T162313
CREATED:20221228T184324Z
LAST-MODIFIED:20230210T201245Z
UID:2192-1677196800-1677265200@ntcogyouthja.com
SUMMARY:Eastern Celebration of the Arts
DESCRIPTION:
URL:https://ntcogyouthja.com/event/eastern-celebration-of-the-arts/
LOCATION:Waltham Park Road NTCOG
CATEGORIES:Talent Showcase
ATTACH;FMTTYPE=image/jpeg:https://ntcogyouthja.com/wp-content/uploads/2022/12/WhatsApp-Image-2023-02-03-at-11.21.40.jpg
END:VEVENT
BEGIN:VEVENT
DTSTART;VALUE=DATE:20230223
DTEND;VALUE=DATE:20230224
DTSTAMP:20260425T162313
CREATED:20221228T190822Z
LAST-MODIFIED:20221228T190822Z
UID:2215-1677110400-1677196799@ntcogyouthja.com
SUMMARY:The Word 101
DESCRIPTION:
URL:https://ntcogyouthja.com/event/the-word-101/
LOCATION:Virtual
CATEGORIES:NTSM
END:VEVENT
BEGIN:VEVENT
DTSTART;VALUE=DATE:20230218
DTEND;VALUE=DATE:20230219
DTSTAMP:20260425T162313
CREATED:20221228T185223Z
LAST-MODIFIED:20221228T185223Z
UID:2199-1676678400-1676764799@ntcogyouthja.com
SUMMARY:Regional Talent Showcase Competition
DESCRIPTION:Eastern – Eastwood Park NTCOG \nCentral – Old Harbour NTCOG \nSouth Central – Black River NTCOG \nNorth Eastern – Oracabessa NTCOG \nWestern – Montego Bay NTCOG
URL:https://ntcogyouthja.com/event/regional-talent-showcase-competition/
LOCATION:All Regions
CATEGORIES:Talent Showcase
END:VEVENT
BEGIN:VEVENT
DTSTART;TZID=UTC:20230214T060000
DTEND;TZID=UTC:20230214T070000
DTSTAMP:20260425T162313
CREATED:20221228T185954Z
LAST-MODIFIED:20221228T185954Z
UID:2207-1676354400-1676358000@ntcogyouthja.com
SUMMARY:Sports Ministry Determined In Struggle (D.I.S) Prayer
DESCRIPTION:Pray 6:00am and focus on the D.I.S (Determined In Struggle) \n\nI must use tact – James 1:5\nI must be courageous in Service – II Corinthians 4:1-18 & Joshua 1:9
URL:https://ntcogyouthja.com/event/sports-ministry-determined-in-struggle-d-i-s-prayer/
LOCATION:TBA
CATEGORIES:Young Men and Sports
END:VEVENT
BEGIN:VEVENT
DTSTART;TZID=UTC:20230212T100000
DTEND;TZID=UTC:20230212T123000
DTSTAMP:20260425T162313
CREATED:20221228T190706Z
LAST-MODIFIED:20221228T190706Z
UID:2213-1676196000-1676205000@ntcogyouthja.com
SUMMARY:NTSM Eastern Service
DESCRIPTION:
URL:https://ntcogyouthja.com/event/ntsm-eastern-service/
LOCATION:Waltham Park Road NTCOG
CATEGORIES:NTSM
END:VEVENT
BEGIN:VEVENT
DTSTART;VALUE=DATE:20230211
DTEND;VALUE=DATE:20230212
DTSTAMP:20260425T162313
CREATED:20221228T184747Z
LAST-MODIFIED:20230210T201106Z
UID:2197-1676073600-1676159999@ntcogyouthja.com
SUMMARY:Sunday School Seminar
DESCRIPTION:
URL:https://ntcogyouthja.com/event/sunday-school-seminar/
LOCATION:Mandeville New Testament Church of God\, Mandeville\, Manchester
CATEGORIES:Christian Education
ATTACH;FMTTYPE=image/jpeg:https://ntcogyouthja.com/wp-content/uploads/2022/12/WhatsApp-Image-2023-02-02-at-15.15.27.jpg
END:VEVENT
BEGIN:VEVENT
DTSTART;VALUE=DATE:20230205
DTEND;VALUE=DATE:20230227
DTSTAMP:20260425T162313
CREATED:20221228T184144Z
LAST-MODIFIED:20221228T184144Z
UID:2190-1675555200-1677455999@ntcogyouthja.com
SUMMARY:Sunday School Campaign/Expansion Drive
DESCRIPTION:
URL:https://ntcogyouthja.com/event/sunday-school-campaign-expansion-drive/
LOCATION:Local Churches
CATEGORIES:Christian Education
END:VEVENT
BEGIN:VEVENT
DTSTART;VALUE=DATE:20230204
DTEND;VALUE=DATE:20230205
DTSTAMP:20260425T162313
CREATED:20221228T190518Z
LAST-MODIFIED:20221228T190518Z
UID:2211-1675468800-1675555199@ntcogyouthja.com
SUMMARY:#ProjectPray: Build & Stay (In-Person)
DESCRIPTION:Featured Parishes: St. Catherine and Clarendon
URL:https://ntcogyouthja.com/event/projectpray-build-stay-in-person/
LOCATION:TBA
CATEGORIES:Prayer
END:VEVENT
BEGIN:VEVENT
DTSTART;VALUE=DATE:20230204
DTEND;VALUE=DATE:20230205
DTSTAMP:20260425T162313
CREATED:20221228T185509Z
LAST-MODIFIED:20221228T185509Z
UID:2203-1675468800-1675555199@ntcogyouthja.com
SUMMARY:Teen Hall (Western)
DESCRIPTION:
URL:https://ntcogyouthja.com/event/teen-hall-western/
LOCATION:TBA
CATEGORIES:Teens
END:VEVENT
BEGIN:VEVENT
DTSTART;TZID=UTC:20230203T193000
DTEND;TZID=UTC:20230203T203000
DTSTAMP:20260425T162313
CREATED:20221228T190320Z
LAST-MODIFIED:20221228T190320Z
UID:2209-1675452600-1675456200@ntcogyouthja.com
SUMMARY:First Friday Prayer
DESCRIPTION:ONE HOUR of prayer for youths and matters concerning them. \nFeatured Parish: St. Catherine and Clarendon
URL:https://ntcogyouthja.com/event/first-friday-prayer/
LOCATION:Virtual
CATEGORIES:Prayer
END:VEVENT
BEGIN:VEVENT
DTSTART;TZID=America/New_York:20230114T090000
DTEND;TZID=America/New_York:20230114T183000
DTSTAMP:20260425T162313
CREATED:20221222T192014Z
LAST-MODIFIED:20230105T115126Z
UID:2141-1673686800-1673721000@ntcogyouthja.com
SUMMARY:National Teens Rally
DESCRIPTION:
URL:https://ntcogyouthja.com/event/national-teens-rally/
LOCATION:Convention Center
CATEGORIES:National Youth & Discipleship,Teens
ATTACH;FMTTYPE=image/jpeg:https://ntcogyouthja.com/wp-content/uploads/2022/12/WhatsApp-Image-2023-01-02-at-21.55.26.jpg
END:VEVENT
BEGIN:VEVENT
DTSTART;VALUE=DATE:20230108
DTEND;VALUE=DATE:20230115
DTSTAMP:20260425T162313
CREATED:20221222T191621Z
LAST-MODIFIED:20230105T115001Z
UID:2139-1673136000-1673740799@ntcogyouthja.com
SUMMARY:National Teens Week
DESCRIPTION:
URL:https://ntcogyouthja.com/event/national-teens-week-2/
LOCATION:Local Churches
CATEGORIES:National Youth & Discipleship,Teens
ATTACH;FMTTYPE=image/jpeg:https://ntcogyouthja.com/wp-content/uploads/2022/12/WhatsApp-Image-2023-01-02-at-21.55.47.jpg
END:VEVENT
BEGIN:VEVENT
DTSTART;TZID=America/New_York:20230107T080000
DTEND;TZID=America/New_York:20230107T170000
DTSTAMP:20260425T162313
CREATED:20221222T190823Z
LAST-MODIFIED:20221222T190823Z
UID:2134-1673078400-1673110800@ntcogyouthja.com
SUMMARY:District Talent Showcase District Play Off/Selection
DESCRIPTION:
URL:https://ntcogyouthja.com/event/district-talent-showcase-district-play-off-selection-2/
LOCATION:District Churches
CATEGORIES:National Youth & Discipleship
END:VEVENT
BEGIN:VEVENT
DTSTART;TZID=UTC:20221210T130000
DTEND;TZID=UTC:20221210T150000
DTSTAMP:20260425T162313
CREATED:20221207T043116Z
LAST-MODIFIED:20221207T043116Z
UID:2125-1670677200-1670684400@ntcogyouthja.com
SUMMARY:Teen's Week and Rally 2023 Launch
DESCRIPTION:
URL:https://ntcogyouthja.com/event/teens-week-and-rally-2023-launch/
LOCATION:Virtual
CATEGORIES:Teens
ATTACH;FMTTYPE=image/jpeg:https://ntcogyouthja.com/wp-content/uploads/2022/12/Teens-Ministry-Launch.jpg
END:VEVENT
BEGIN:VEVENT
DTSTART;VALUE=DATE:20221125
DTEND;VALUE=DATE:20221127
DTSTAMP:20260425T162313
CREATED:20221019T102113Z
LAST-MODIFIED:20221019T102113Z
UID:2058-1669334400-1669507199@ntcogyouthja.com
SUMMARY:YAM Excursion and Church Visit
DESCRIPTION:
URL:https://ntcogyouthja.com/event/yam-excursion-and-church-visit/
LOCATION:Johnny Falls in St. Mary
CATEGORIES:Young Adults
END:VEVENT
BEGIN:VEVENT
DTSTART;VALUE=DATE:20221124
DTEND;VALUE=DATE:20221125
DTSTAMP:20260425T162313
CREATED:20221019T103225Z
LAST-MODIFIED:20221019T103302Z
UID:2074-1669248000-1669334399@ntcogyouthja.com
SUMMARY:Students Linkup
DESCRIPTION:
URL:https://ntcogyouthja.com/event/students-linkup/
LOCATION:Virtual
CATEGORIES:NTSM
END:VEVENT
BEGIN:VEVENT
DTSTART;TZID=UTC:20221119T120000
DTEND;TZID=UTC:20221119T150000
DTSTAMP:20260425T162313
CREATED:20221019T101305Z
LAST-MODIFIED:20221118T185427Z
UID:2053-1668859200-1668870000@ntcogyouthja.com
SUMMARY:TeenHall
DESCRIPTION:
URL:https://ntcogyouthja.com/event/teenhall-3/
LOCATION:North-Eastern Region
CATEGORIES:Teens
ATTACH;FMTTYPE=image/jpeg:https://ntcogyouthja.com/wp-content/uploads/2022/10/WhatsApp-Image-2022-11-18-at-11.56.04.jpg
END:VEVENT
BEGIN:VEVENT
DTSTART;VALUE=DATE:20221111
DTEND;VALUE=DATE:20221112
DTSTAMP:20260425T162313
CREATED:20221014T211907Z
LAST-MODIFIED:20221108T091737Z
UID:2039-1668124800-1668211199@ntcogyouthja.com
SUMMARY:God Style Lifestyle (Surrey)
DESCRIPTION:
URL:https://ntcogyouthja.com/event/god-style-lifestyle-surrey/
LOCATION:Eastwood Park Church
CATEGORIES:National Youth & Discipleship
ATTACH;FMTTYPE=image/jpeg:https://ntcogyouthja.com/wp-content/uploads/2022/10/WhatsApp-Image-2022-11-03-at-14.58.05.jpg
END:VEVENT
BEGIN:VEVENT
DTSTART;VALUE=DATE:20221029
DTEND;VALUE=DATE:20221030
DTSTAMP:20260425T162313
CREATED:20221019T102807Z
LAST-MODIFIED:20221019T102807Z
UID:2067-1667001600-1667087999@ntcogyouthja.com
SUMMARY:Prayer-Thon
DESCRIPTION:
URL:https://ntcogyouthja.com/event/prayer-thon/
LOCATION:All Regions
CATEGORIES:Prayer
END:VEVENT
BEGIN:VEVENT
DTSTART;VALUE=DATE:20221022
DTEND;VALUE=DATE:20221023
DTSTAMP:20260425T162313
CREATED:20221019T102513Z
LAST-MODIFIED:20221019T102903Z
UID:2065-1666396800-1666483199@ntcogyouthja.com
SUMMARY:E-Sport Competition - FIFA/Mortal Combat
DESCRIPTION:Registration $200 Entry Fee $500 \nJump Rope Competition (All Regions) \nEntry Fee – Jump rope: Individual Event – $ 200 \nTeam of Five      – $1000 \nTeam of Three   – $ 500 \nFirst 10 teams from each region will be acknowledged. \nFirst 10 individual entries from each region will be recognized.
URL:https://ntcogyouthja.com/event/e-sport-competition-fifa-mortal-combat/
LOCATION:Convention Center
CATEGORIES:Young Men and Sports
END:VEVENT
BEGIN:VEVENT
DTSTART;VALUE=DATE:20221019
DTEND;VALUE=DATE:20221020
DTSTAMP:20260425T162313
CREATED:20221019T101758Z
LAST-MODIFIED:20221019T101758Z
UID:2055-1666137600-1666223999@ntcogyouthja.com
SUMMARY:Fast Walk Pray Play
DESCRIPTION:
URL:https://ntcogyouthja.com/event/fast-walk-pray-play/
LOCATION:TBA
CATEGORIES:Young Adults
END:VEVENT
BEGIN:VEVENT
DTSTART;VALUE=DATE:20220725
DTEND;VALUE=DATE:20220730
DTSTAMP:20260425T162313
CREATED:20211028T031704Z
LAST-MODIFIED:20211028T031704Z
UID:537-1658707200-1659139199@ntcogyouthja.com
SUMMARY:Virtual Teens Camp
DESCRIPTION:
URL:https://ntcogyouthja.com/event/virtual-teens-camp/
LOCATION:Virtual
CATEGORIES:Teens
END:VEVENT
BEGIN:VEVENT
DTSTART;VALUE=DATE:20220611
DTEND;VALUE=DATE:20220612
DTSTAMP:20260425T162313
CREATED:20211027T201230Z
LAST-MODIFIED:20211027T201230Z
UID:502-1654905600-1654991999@ntcogyouthja.com
SUMMARY:National Empowerment Session
DESCRIPTION:
URL:https://ntcogyouthja.com/event/national-empowerment-session/
LOCATION:Virtual
CATEGORIES:NTSM
END:VEVENT
BEGIN:VEVENT
DTSTART;VALUE=DATE:20220531
DTEND;VALUE=DATE:20220601
DTSTAMP:20260425T162313
CREATED:20211028T031533Z
LAST-MODIFIED:20211028T031533Z
UID:535-1653955200-1654041599@ntcogyouthja.com
SUMMARY:TeenHall
DESCRIPTION:
URL:https://ntcogyouthja.com/event/teenhall-2/
LOCATION:Virtual
CATEGORIES:Teens
END:VEVENT
BEGIN:VEVENT
DTSTART;VALUE=DATE:20220510
DTEND;VALUE=DATE:20220511
DTSTAMP:20260425T162313
CREATED:20211027T201114Z
LAST-MODIFIED:20211027T201114Z
UID:499-1652140800-1652227199@ntcogyouthja.com
SUMMARY:National Students Link Up
DESCRIPTION:
URL:https://ntcogyouthja.com/event/national-students-link-up/
LOCATION:Virtual
CATEGORIES:NTSM
END:VEVENT
BEGIN:VEVENT
DTSTART;VALUE=DATE:20220422
DTEND;VALUE=DATE:20220423
DTSTAMP:20260425T162313
CREATED:20211028T031438Z
LAST-MODIFIED:20211028T031438Z
UID:533-1650585600-1650671999@ntcogyouthja.com
SUMMARY:Teens Village
DESCRIPTION:
URL:https://ntcogyouthja.com/event/teens-village/
LOCATION:Virtual
CATEGORIES:Teens
END:VEVENT
BEGIN:VEVENT
DTSTART;VALUE=DATE:20220318
DTEND;VALUE=DATE:20220321
DTSTAMP:20260425T162313
CREATED:20211027T200925Z
LAST-MODIFIED:20211027T200925Z
UID:496-1647561600-1647820799@ntcogyouthja.com
SUMMARY:National Collegiate Retreat
DESCRIPTION:
URL:https://ntcogyouthja.com/event/national-collegiate-retreat/
LOCATION:National Campsite
CATEGORIES:NTSM
END:VEVENT
BEGIN:VEVENT
DTSTART;VALUE=DATE:20220317
DTEND;VALUE=DATE:20220318
DTSTAMP:20260425T162313
CREATED:20211031T034427Z
LAST-MODIFIED:20211031T034427Z
UID:1291-1647475200-1647561599@ntcogyouthja.com
SUMMARY:Prayer Workshop
DESCRIPTION:
URL:https://ntcogyouthja.com/event/prayer-workshop/
LOCATION:Virtual
CATEGORIES:Prayer
END:VEVENT
BEGIN:VEVENT
DTSTART;VALUE=DATE:20220312
DTEND;VALUE=DATE:20220313
DTSTAMP:20260425T162313
CREATED:20211028T031314Z
LAST-MODIFIED:20211028T031314Z
UID:531-1647043200-1647129599@ntcogyouthja.com
SUMMARY:Teens Bible Quiz - Regionals
DESCRIPTION:
URL:https://ntcogyouthja.com/event/teens-bible-quiz-regionals/
LOCATION:Virtual
CATEGORIES:Teens
END:VEVENT
END:VCALENDAR