BEGIN:VCALENDAR
VERSION:2.0
PRODID:-//NTCOG Youth Ja - ECPv6.15.20//NONSGML v1.0//EN
CALSCALE:GREGORIAN
METHOD:PUBLISH
X-WR-CALNAME:NTCOG Youth Ja
X-ORIGINAL-URL:https://ntcogyouthja.com
X-WR-CALDESC:Events for NTCOG Youth Ja
REFRESH-INTERVAL;VALUE=DURATION:PT1H
X-Robots-Tag:noindex
X-PUBLISHED-TTL:PT1H
BEGIN:VTIMEZONE
TZID:UTC
BEGIN:STANDARD
TZOFFSETFROM:+0000
TZOFFSETTO:+0000
TZNAME:UTC
DTSTART:20230101T000000
END:STANDARD
END:VTIMEZONE
BEGIN:VTIMEZONE
TZID:America/New_York
BEGIN:DAYLIGHT
TZOFFSETFROM:-0500
TZOFFSETTO:-0400
TZNAME:EDT
DTSTART:20230312T070000
END:DAYLIGHT
BEGIN:STANDARD
TZOFFSETFROM:-0400
TZOFFSETTO:-0500
TZNAME:EST
DTSTART:20231105T060000
END:STANDARD
BEGIN:DAYLIGHT
TZOFFSETFROM:-0500
TZOFFSETTO:-0400
TZNAME:EDT
DTSTART:20240310T070000
END:DAYLIGHT
BEGIN:STANDARD
TZOFFSETFROM:-0400
TZOFFSETTO:-0500
TZNAME:EST
DTSTART:20241103T060000
END:STANDARD
BEGIN:DAYLIGHT
TZOFFSETFROM:-0500
TZOFFSETTO:-0400
TZNAME:EDT
DTSTART:20250309T070000
END:DAYLIGHT
BEGIN:STANDARD
TZOFFSETFROM:-0400
TZOFFSETTO:-0500
TZNAME:EST
DTSTART:20251102T060000
END:STANDARD
END:VTIMEZONE
BEGIN:VEVENT
DTSTART;VALUE=DATE:20250301
DTEND;VALUE=DATE:20250401
DTSTAMP:20260425T103728
CREATED:20241120T165523Z
LAST-MODIFIED:20241120T165523Z
UID:226581-1740787200-1743465599@ntcogyouthja.com
SUMMARY:Bible Reading Month
DESCRIPTION:The book for this year is Romans.
URL:https://ntcogyouthja.com/event/bible-reading-month/
LOCATION:Local Churches
CATEGORIES:Christian Education
END:VEVENT
BEGIN:VEVENT
DTSTART;VALUE=DATE:20250215
DTEND;VALUE=DATE:20250216
DTSTAMP:20260425T103728
CREATED:20241120T172826Z
LAST-MODIFIED:20241120T172826Z
UID:226589-1739577600-1739663999@ntcogyouthja.com
SUMMARY:Regional Talent Showcase Competition
DESCRIPTION:All Regions. \nVenues: \n\nPortmore NTCOG\nOld Harbour NTCOG\nOracabessa NTCOG\nMontego Bay NTCOG
URL:https://ntcogyouthja.com/event/regional-talent-showcase-competition-3/
CATEGORIES:Talent Showcase
END:VEVENT
BEGIN:VEVENT
DTSTART;VALUE=DATE:20250208
DTEND;VALUE=DATE:20250209
DTSTAMP:20260425T103728
CREATED:20241120T165258Z
LAST-MODIFIED:20241120T165258Z
UID:226579-1738972800-1739059199@ntcogyouthja.com
SUMMARY:National Sunday School Seminar
DESCRIPTION:
URL:https://ntcogyouthja.com/event/national-sunday-school-seminar/
LOCATION:Old Harbour NTCOG
CATEGORIES:Christian Education
END:VEVENT
BEGIN:VEVENT
DTSTART;VALUE=DATE:20250126
DTEND;VALUE=DATE:20250127
DTSTAMP:20260425T103728
CREATED:20241120T165044Z
LAST-MODIFIED:20241120T165044Z
UID:226577-1737849600-1737935999@ntcogyouthja.com
SUMMARY:National Day of Prayer
DESCRIPTION:
URL:https://ntcogyouthja.com/event/national-day-of-prayer-2/
LOCATION:Local Churches
CATEGORIES:National Youth & Discipleship
END:VEVENT
BEGIN:VEVENT
DTSTART;TZID=UTC:20250124T180000
DTEND;TZID=UTC:20250125T000000
DTSTAMP:20260425T103728
CREATED:20241120T163055Z
LAST-MODIFIED:20241120T163055Z
UID:226575-1737741600-1737763200@ntcogyouthja.com
SUMMARY:All-Night Prayer Meeting
DESCRIPTION:National Young Adults Ministry All-Night Prayer meeting.
URL:https://ntcogyouthja.com/event/all-night-prayer-meeting-2/
LOCATION:May Pen NTCOG
CATEGORIES:Young Adults
END:VEVENT
BEGIN:VEVENT
DTSTART;VALUE=DATE:20250117
DTEND;VALUE=DATE:20250118
DTSTAMP:20260425T103728
CREATED:20241120T162802Z
LAST-MODIFIED:20241120T162802Z
UID:226573-1737072000-1737158399@ntcogyouthja.com
SUMMARY:Children & Teens Bible Quiz Competitions
DESCRIPTION:All entries for Regional Competition as due.
URL:https://ntcogyouthja.com/event/children-teens-bible-quiz-competitions/
LOCATION:Local Churches
CATEGORIES:Talent Showcase
END:VEVENT
BEGIN:VEVENT
DTSTART;VALUE=DATE:20250110
DTEND;VALUE=DATE:20250111
DTSTAMP:20260425T103728
CREATED:20241120T162423Z
LAST-MODIFIED:20241120T162423Z
UID:226571-1736467200-1736553599@ntcogyouthja.com
SUMMARY:Talent Showcase Entries Deadline
DESCRIPTION:This is the deadline for entries to the Regional Finals.
URL:https://ntcogyouthja.com/event/talent-showcase-entries-deadline/
LOCATION:National Office
END:VEVENT
BEGIN:VEVENT
DTSTART;VALUE=DATE:20250106
DTEND;VALUE=DATE:20250112
DTSTAMP:20260425T103728
CREATED:20240917T172202Z
LAST-MODIFIED:20241120T161857Z
UID:226492-1736121600-1736639999@ntcogyouthja.com
SUMMARY:National Teens Week
DESCRIPTION:
URL:https://ntcogyouthja.com/event/national-teens-week-4/
LOCATION:Local Churches
CATEGORIES:Teens
END:VEVENT
BEGIN:VEVENT
DTSTART;TZID=UTC:20241207T080000
DTEND;TZID=UTC:20241207T170000
DTSTAMP:20260425T103728
CREATED:20240917T170843Z
LAST-MODIFIED:20240917T170843Z
UID:226490-1733558400-1733590800@ntcogyouthja.com
SUMMARY:District Talent Showcase District Playoff
DESCRIPTION:
URL:https://ntcogyouthja.com/event/district-talent-showcase-district-playoff/
LOCATION:District Churches
END:VEVENT
BEGIN:VEVENT
DTSTART;TZID=UTC:20241012T100000
DTEND;TZID=UTC:20241012T130000
DTSTAMP:20260425T103728
CREATED:20240917T170517Z
LAST-MODIFIED:20241010T163625Z
UID:226488-1728727200-1728738000@ntcogyouthja.com
SUMMARY:Regional District & Local Workers Training
DESCRIPTION:Please be advised that on Saturday\, October 12\, 2024\, the Department will have its Youth Workers Training from 10:00a.m -1:00p.m. via the Zoom platform \nInvited are: District and Local Directors\, Ministry Leaders\, Sunday School and Youth Fellowship workers\, as well as interested persons.
URL:https://ntcogyouthja.com/event/regional-district-local-workers-training/
LOCATION:All Regions
ATTACH;FMTTYPE=image/jpeg:https://ntcogyouthja.com/wp-content/uploads/2024/09/WhatsApp-Image-2024-10-06-at-18.35.10_36eb53e4.jpg
END:VEVENT
BEGIN:VEVENT
DTSTART;TZID=UTC:20240927T180000
DTEND;TZID=UTC:20240928T140000
DTSTAMP:20260425T103728
CREATED:20240905T190117Z
LAST-MODIFIED:20240905T190117Z
UID:226466-1727460000-1727532000@ntcogyouthja.com
SUMMARY:District and Local Directors' Conference
DESCRIPTION:
URL:https://ntcogyouthja.com/event/district-and-local-directors-conference/
LOCATION:National Campsite
CATEGORIES:Ministries Leaders,National Youth & Discipleship
ATTACH;FMTTYPE=image/jpeg:https://ntcogyouthja.com/wp-content/uploads/2024/09/Directors-Conference.jpg
END:VEVENT
BEGIN:VEVENT
DTSTART;TZID=UTC:20240908T090000
DTEND;TZID=UTC:20240908T120000
DTSTAMP:20260425T103728
CREATED:20240905T183549Z
LAST-MODIFIED:20240905T183549Z
UID:226460-1725786000-1725796800@ntcogyouthja.com
SUMMARY:National Youth & Discipleship Dept Launch of Church Year 2024-2025
DESCRIPTION:
URL:https://ntcogyouthja.com/event/national-youth-discipleship-dept-launch-of-church-year-2024-2025/
LOCATION:Negril New Testament Church of God\, Whitehall Road\, Negril\, Jamaica
CATEGORIES:National Youth & Discipleship
ATTACH;FMTTYPE=image/jpeg:https://ntcogyouthja.com/wp-content/uploads/2024/09/yd-launcj.jpg
END:VEVENT
BEGIN:VEVENT
DTSTART;TZID=UTC:20240801T080000
DTEND;TZID=UTC:20240803T170000
DTSTAMP:20260425T103728
CREATED:20231009T183743Z
LAST-MODIFIED:20231009T183743Z
UID:5726-1722499200-1722704400@ntcogyouthja.com
SUMMARY:National Youth Retreat
DESCRIPTION:
URL:https://ntcogyouthja.com/event/national-youth-retreat/
LOCATION:National Campsite
CATEGORIES:Young Adults
END:VEVENT
BEGIN:VEVENT
DTSTART;TZID=UTC:20240722T080000
DTEND;TZID=UTC:20240726T170000
DTSTAMP:20260425T103728
CREATED:20231009T183645Z
LAST-MODIFIED:20231009T183645Z
UID:5724-1721635200-1722013200@ntcogyouthja.com
SUMMARY:Teens Camp Week 2
DESCRIPTION:
URL:https://ntcogyouthja.com/event/teens-camp-week-2/
LOCATION:National Campsite
CATEGORIES:Teens
END:VEVENT
BEGIN:VEVENT
DTSTART;TZID=UTC:20240715T080000
DTEND;TZID=UTC:20240719T170000
DTSTAMP:20260425T103728
CREATED:20231009T183534Z
LAST-MODIFIED:20231009T183534Z
UID:5722-1721030400-1721408400@ntcogyouthja.com
SUMMARY:Teens Camp Week 1
DESCRIPTION:
URL:https://ntcogyouthja.com/event/teens-camp-week-1-3/
LOCATION:National Campsite
CATEGORIES:Teens
END:VEVENT
BEGIN:VEVENT
DTSTART;TZID=UTC:20240709T080000
DTEND;TZID=UTC:20240713T170000
DTSTAMP:20260425T103728
CREATED:20231009T183417Z
LAST-MODIFIED:20231009T183417Z
UID:5720-1720512000-1720890000@ntcogyouthja.com
SUMMARY:Children's Camp
DESCRIPTION:
URL:https://ntcogyouthja.com/event/childrens-camp/
LOCATION:National Campsite
CATEGORIES:Children's
END:VEVENT
BEGIN:VEVENT
DTSTART;TZID=UTC:20240708T080000
DTEND;TZID=UTC:20240712T170000
DTSTAMP:20260425T103728
CREATED:20231009T183258Z
LAST-MODIFIED:20231009T183258Z
UID:5716-1720425600-1720803600@ntcogyouthja.com
SUMMARY:International General Assembly
DESCRIPTION:
URL:https://ntcogyouthja.com/event/international-general-assembly/
LOCATION:United States of America\, Indianapolis
CATEGORIES:National Youth & Discipleship
END:VEVENT
BEGIN:VEVENT
DTSTART;VALUE=DATE:20240706
DTEND;VALUE=DATE:20240707
DTSTAMP:20260425T103728
CREATED:20230224T160223Z
LAST-MODIFIED:20231009T182956Z
UID:2367-1720224000-1720310399@ntcogyouthja.com
SUMMARY:Youth Day/ Convention
DESCRIPTION:
URL:https://ntcogyouthja.com/event/youth-day-convention/
LOCATION:Convention Center
CATEGORIES:National Youth & Discipleship
END:VEVENT
BEGIN:VEVENT
DTSTART;TZID=UTC:20240614T190000
DTEND;TZID=UTC:20240614T210000
DTSTAMP:20260425T103728
CREATED:20231009T182640Z
LAST-MODIFIED:20231009T182640Z
UID:5714-1718391600-1718398800@ntcogyouthja.com
SUMMARY:Teen Talent Expo
DESCRIPTION:
URL:https://ntcogyouthja.com/event/teen-talent-expo/
CATEGORIES:Talent Showcase
END:VEVENT
BEGIN:VEVENT
DTSTART;VALUE=DATE:20240526
DTEND;VALUE=DATE:20240527
DTSTAMP:20260425T103728
CREATED:20231009T182019Z
LAST-MODIFIED:20231009T182348Z
UID:5710-1716681600-1716767999@ntcogyouthja.com
SUMMARY:National Children's Convention
DESCRIPTION:
URL:https://ntcogyouthja.com/event/national-childrens-convention/
LOCATION:Escarpment Road NTCOG
CATEGORIES:Children's
END:VEVENT
BEGIN:VEVENT
DTSTART;TZID=UTC:20240517T100000
DTEND;TZID=UTC:20240518T235900
DTSTAMP:20260425T103728
CREATED:20230116T162849Z
LAST-MODIFIED:20231009T182221Z
UID:2313-1715940000-1716076740@ntcogyouthja.com
SUMMARY:Camp Workers Workshop
DESCRIPTION:
URL:https://ntcogyouthja.com/event/camp-workers-workshop/
LOCATION:National Campsite
CATEGORIES:Children's,National Youth & Discipleship,Teens
END:VEVENT
BEGIN:VEVENT
DTSTART;VALUE=DATE:20240406
DTEND;VALUE=DATE:20240407
DTSTAMP:20260425T103728
CREATED:20230111T232334Z
LAST-MODIFIED:20231009T181400Z
UID:2278-1712361600-1712447999@ntcogyouthja.com
SUMMARY:National Youth Congress
DESCRIPTION:
URL:https://ntcogyouthja.com/event/national-youth-congress/
LOCATION:Convention Center
CATEGORIES:Children's,National Youth & Discipleship,Talent Showcase,Teens,Young Men and Sports
END:VEVENT
BEGIN:VEVENT
DTSTART;VALUE=DATE:20240405
DTEND;VALUE=DATE:20240406
DTSTAMP:20260425T103728
CREATED:20230111T232632Z
LAST-MODIFIED:20231009T181518Z
UID:2280-1712275200-1712361599@ntcogyouthja.com
SUMMARY:Talent Showcase Competition National Finals – Youth Congress
DESCRIPTION:
URL:https://ntcogyouthja.com/event/talent-showcase-competition-national-finals-youth-congress/
LOCATION:Convention Center
CATEGORIES:Talent Showcase
END:VEVENT
BEGIN:VEVENT
DTSTART;VALUE=DATE:20240403
DTEND;VALUE=DATE:20240404
DTSTAMP:20260425T103728
CREATED:20231004T183933Z
LAST-MODIFIED:20231004T183933Z
UID:5675-1712102400-1712188799@ntcogyouthja.com
SUMMARY:Pastors and Leaders Impact Conference
DESCRIPTION:
URL:https://ntcogyouthja.com/event/pastors-and-leaders-impact-conference-2/
LOCATION:Old Harbour NTCOG
CATEGORIES:National Youth & Discipleship
END:VEVENT
BEGIN:VEVENT
DTSTART;VALUE=DATE:20240217
DTEND;VALUE=DATE:20240317
DTSTAMP:20260425T103728
CREATED:20231004T183644Z
LAST-MODIFIED:20231004T183644Z
UID:5671-1708128000-1710633599@ntcogyouthja.com
SUMMARY:Regional Talent Showcase Competition
DESCRIPTION:
URL:https://ntcogyouthja.com/event/regional-talent-showcase-competition-2/
LOCATION:All Regions
CATEGORIES:Talent Showcase
END:VEVENT
BEGIN:VEVENT
DTSTART;TZID=UTC:20240210T080000
DTEND;TZID=UTC:20240210T170000
DTSTAMP:20260425T103728
CREATED:20231004T183537Z
LAST-MODIFIED:20240119T170440Z
UID:5669-1707552000-1707584400@ntcogyouthja.com
SUMMARY:Sunday School Seminar
DESCRIPTION:
URL:https://ntcogyouthja.com/event/sunday-school-seminar-2/
LOCATION:Old Harbour NTCOG
CATEGORIES:Christian Education
ATTACH;FMTTYPE=image/jpeg:https://ntcogyouthja.com/wp-content/uploads/2023/10/IMG-20240117-WA0005.jpg
END:VEVENT
BEGIN:VEVENT
DTSTART;TZID=UTC:20240203T080000
DTEND;TZID=UTC:20240203T170000
DTSTAMP:20260425T103728
CREATED:20231004T183437Z
LAST-MODIFIED:20231004T183437Z
UID:5667-1706947200-1706979600@ntcogyouthja.com
SUMMARY:God Style Lifestyle Youth Evangelism (Directors)
DESCRIPTION:
URL:https://ntcogyouthja.com/event/god-style-lifestyle-youth-evangelism-directors/
LOCATION:Local Churches
CATEGORIES:National Youth & Discipleship
END:VEVENT
BEGIN:VEVENT
DTSTART;VALUE=DATE:20240128
DTEND;VALUE=DATE:20240129
DTSTAMP:20260425T103728
CREATED:20231004T025354Z
LAST-MODIFIED:20231004T025354Z
UID:5656-1706400000-1706486399@ntcogyouthja.com
SUMMARY:National Day of Prayer
DESCRIPTION:
URL:https://ntcogyouthja.com/event/national-day-of-prayer/
CATEGORIES:National Youth & Discipleship
END:VEVENT
BEGIN:VEVENT
DTSTART;TZID=UTC:20240126T080000
DTEND;TZID=UTC:20240126T170000
DTSTAMP:20260425T103728
CREATED:20231004T025309Z
LAST-MODIFIED:20231004T025309Z
UID:5654-1706256000-1706288400@ntcogyouthja.com
SUMMARY:All Night Prayer Meeting (NYAM)
DESCRIPTION:
URL:https://ntcogyouthja.com/event/all-night-prayer-meeting-nyam/
LOCATION:May Pen NTCOG
CATEGORIES:Young Adults
END:VEVENT
BEGIN:VEVENT
DTSTART;TZID=UTC:20240119T080000
DTEND;TZID=UTC:20240119T170000
DTSTAMP:20260425T103728
CREATED:20231004T025136Z
LAST-MODIFIED:20231004T025136Z
UID:5652-1705651200-1705683600@ntcogyouthja.com
SUMMARY:Children and Teens Bible Quiz - Deadline for Entries
DESCRIPTION:
URL:https://ntcogyouthja.com/event/children-and-teens-bible-quiz-deadline-for-entries/
LOCATION:Local Churches
CATEGORIES:Children's,Teens
END:VEVENT
END:VCALENDAR