BEGIN:VCALENDAR
VERSION:2.0
PRODID:-//NTCOG Youth Ja - ECPv6.15.20//NONSGML v1.0//EN
CALSCALE:GREGORIAN
METHOD:PUBLISH
X-WR-CALNAME:NTCOG Youth Ja
X-ORIGINAL-URL:https://ntcogyouthja.com
X-WR-CALDESC:Events for NTCOG Youth Ja
REFRESH-INTERVAL;VALUE=DURATION:PT1H
X-Robots-Tag:noindex
X-PUBLISHED-TTL:PT1H
BEGIN:VTIMEZONE
TZID:UTC
BEGIN:STANDARD
TZOFFSETFROM:+0000
TZOFFSETTO:+0000
TZNAME:UTC
DTSTART:20220101T000000
END:STANDARD
END:VTIMEZONE
BEGIN:VTIMEZONE
TZID:America/New_York
BEGIN:DAYLIGHT
TZOFFSETFROM:-0500
TZOFFSETTO:-0400
TZNAME:EDT
DTSTART:20220313T070000
END:DAYLIGHT
BEGIN:STANDARD
TZOFFSETFROM:-0400
TZOFFSETTO:-0500
TZNAME:EST
DTSTART:20221106T060000
END:STANDARD
BEGIN:DAYLIGHT
TZOFFSETFROM:-0500
TZOFFSETTO:-0400
TZNAME:EDT
DTSTART:20230312T070000
END:DAYLIGHT
BEGIN:STANDARD
TZOFFSETFROM:-0400
TZOFFSETTO:-0500
TZNAME:EST
DTSTART:20231105T060000
END:STANDARD
BEGIN:DAYLIGHT
TZOFFSETFROM:-0500
TZOFFSETTO:-0400
TZNAME:EDT
DTSTART:20240310T070000
END:DAYLIGHT
BEGIN:STANDARD
TZOFFSETFROM:-0400
TZOFFSETTO:-0500
TZNAME:EST
DTSTART:20241103T060000
END:STANDARD
END:VTIMEZONE
BEGIN:VEVENT
DTSTART;VALUE=DATE:20240217
DTEND;VALUE=DATE:20240317
DTSTAMP:20260425T162413
CREATED:20231004T183644Z
LAST-MODIFIED:20231004T183644Z
UID:5671-1708128000-1710633599@ntcogyouthja.com
SUMMARY:Regional Talent Showcase Competition
DESCRIPTION:
URL:https://ntcogyouthja.com/event/regional-talent-showcase-competition-2/
LOCATION:All Regions
CATEGORIES:Talent Showcase
END:VEVENT
BEGIN:VEVENT
DTSTART;TZID=UTC:20240210T080000
DTEND;TZID=UTC:20240210T170000
DTSTAMP:20260425T162413
CREATED:20231004T183537Z
LAST-MODIFIED:20240119T170440Z
UID:5669-1707552000-1707584400@ntcogyouthja.com
SUMMARY:Sunday School Seminar
DESCRIPTION:
URL:https://ntcogyouthja.com/event/sunday-school-seminar-2/
LOCATION:Old Harbour NTCOG
CATEGORIES:Christian Education
ATTACH;FMTTYPE=image/jpeg:https://ntcogyouthja.com/wp-content/uploads/2023/10/IMG-20240117-WA0005.jpg
END:VEVENT
BEGIN:VEVENT
DTSTART;TZID=UTC:20240203T080000
DTEND;TZID=UTC:20240203T170000
DTSTAMP:20260425T162413
CREATED:20231004T183437Z
LAST-MODIFIED:20231004T183437Z
UID:5667-1706947200-1706979600@ntcogyouthja.com
SUMMARY:God Style Lifestyle Youth Evangelism (Directors)
DESCRIPTION:
URL:https://ntcogyouthja.com/event/god-style-lifestyle-youth-evangelism-directors/
LOCATION:Local Churches
CATEGORIES:National Youth & Discipleship
END:VEVENT
BEGIN:VEVENT
DTSTART;VALUE=DATE:20240128
DTEND;VALUE=DATE:20240129
DTSTAMP:20260425T162413
CREATED:20231004T025354Z
LAST-MODIFIED:20231004T025354Z
UID:5656-1706400000-1706486399@ntcogyouthja.com
SUMMARY:National Day of Prayer
DESCRIPTION:
URL:https://ntcogyouthja.com/event/national-day-of-prayer/
CATEGORIES:National Youth & Discipleship
END:VEVENT
BEGIN:VEVENT
DTSTART;TZID=UTC:20240126T080000
DTEND;TZID=UTC:20240126T170000
DTSTAMP:20260425T162413
CREATED:20231004T025309Z
LAST-MODIFIED:20231004T025309Z
UID:5654-1706256000-1706288400@ntcogyouthja.com
SUMMARY:All Night Prayer Meeting (NYAM)
DESCRIPTION:
URL:https://ntcogyouthja.com/event/all-night-prayer-meeting-nyam/
LOCATION:May Pen NTCOG
CATEGORIES:Young Adults
END:VEVENT
BEGIN:VEVENT
DTSTART;TZID=UTC:20240119T080000
DTEND;TZID=UTC:20240119T170000
DTSTAMP:20260425T162413
CREATED:20231004T025136Z
LAST-MODIFIED:20231004T025136Z
UID:5652-1705651200-1705683600@ntcogyouthja.com
SUMMARY:Children and Teens Bible Quiz - Deadline for Entries
DESCRIPTION:
URL:https://ntcogyouthja.com/event/children-and-teens-bible-quiz-deadline-for-entries/
LOCATION:Local Churches
CATEGORIES:Children's,Teens
END:VEVENT
BEGIN:VEVENT
DTSTART;TZID=UTC:20240113T080000
DTEND;TZID=UTC:20240113T170000
DTSTAMP:20260425T162413
CREATED:20231004T024910Z
LAST-MODIFIED:20240103T090444Z
UID:5648-1705132800-1705165200@ntcogyouthja.com
SUMMARY:National Teens Rally
DESCRIPTION:
URL:https://ntcogyouthja.com/event/national-teens-rally-2/
LOCATION:Old Harbour NTCOG
CATEGORIES:Teens
ATTACH;FMTTYPE=image/jpeg:https://ntcogyouthja.com/wp-content/uploads/2023/10/WhatsApp-Image-2023-12-29-at-09.30.33_cb83fbf5.jpg
END:VEVENT
BEGIN:VEVENT
DTSTART;VALUE=DATE:20240112
DTEND;VALUE=DATE:20240113
DTSTAMP:20260425T162413
CREATED:20231004T025028Z
LAST-MODIFIED:20231004T025028Z
UID:5650-1705017600-1705103999@ntcogyouthja.com
SUMMARY:Talent Showcase Deadline for Entries for Regionals
DESCRIPTION:
URL:https://ntcogyouthja.com/event/talent-showcase-deadline-for-entries-for-regionals/
LOCATION:Virtual
CATEGORIES:Talent Showcase
END:VEVENT
BEGIN:VEVENT
DTSTART;TZID=UTC:20240111T190000
DTEND;TZID=UTC:20240111T210000
DTSTAMP:20260425T162413
CREATED:20240103T090706Z
LAST-MODIFIED:20240103T090706Z
UID:5815-1704999600-1705006800@ntcogyouthja.com
SUMMARY:Teen's Week: Family Feud
DESCRIPTION:
URL:https://ntcogyouthja.com/event/teens-week-family-feud/
LOCATION:Virtual
CATEGORIES:Teens
ATTACH;FMTTYPE=image/jpeg:https://ntcogyouthja.com/wp-content/uploads/2023/10/WhatsApp-Image-2023-12-29-at-09.32.08_953be567.jpg
END:VEVENT
BEGIN:VEVENT
DTSTART;VALUE=DATE:20240108
DTEND;VALUE=DATE:20240115
DTSTAMP:20260425T162413
CREATED:20231004T024802Z
LAST-MODIFIED:20240103T090330Z
UID:5646-1704672000-1705276799@ntcogyouthja.com
SUMMARY:National Teens Week
DESCRIPTION:
URL:https://ntcogyouthja.com/event/national-teens-week-3/
LOCATION:Local Churches
CATEGORIES:Teens
ATTACH;FMTTYPE=image/jpeg:https://ntcogyouthja.com/wp-content/uploads/2023/10/WhatsApp-Image-2023-12-29-at-09.30.59_6c394b74.jpg
END:VEVENT
BEGIN:VEVENT
DTSTART;TZID=UTC:20231209T080000
DTEND;TZID=UTC:20231209T170000
DTSTAMP:20260425T162413
CREATED:20231004T024624Z
LAST-MODIFIED:20231004T024624Z
UID:5644-1702108800-1702141200@ntcogyouthja.com
SUMMARY:Talent Showcase District Playoff/Selection
DESCRIPTION:
URL:https://ntcogyouthja.com/event/talent-showcase-district-playoff-selection/
LOCATION:All Regions
CATEGORIES:Talent Showcase
END:VEVENT
BEGIN:VEVENT
DTSTART;TZID=UTC:20231202T090000
DTEND;TZID=UTC:20231202T170000
DTSTAMP:20260425T162413
CREATED:20231004T024338Z
LAST-MODIFIED:20231004T024338Z
UID:5642-1701507600-1701536400@ntcogyouthja.com
SUMMARY:Talent Showcase Workshop - Part 2
DESCRIPTION:
URL:https://ntcogyouthja.com/event/talent-showcase-workshop-part-2/
LOCATION:Montego Bay Church
CATEGORIES:Talent Showcase
END:VEVENT
BEGIN:VEVENT
DTSTART;TZID=UTC:20231126T090000
DTEND;TZID=UTC:20231126T130000
DTSTAMP:20260425T162413
CREATED:20231123T190750Z
LAST-MODIFIED:20231123T190750Z
UID:5786-1700989200-1701003600@ntcogyouthja.com
SUMMARY:Church Visit by Young Adults
DESCRIPTION:
URL:https://ntcogyouthja.com/event/church-visit-by-young-adults/
LOCATION:Brown’s Town New Testament Church of God\, Brown's Town\, St. Ann\, Jamaica
CATEGORIES:Young Adults
ATTACH;FMTTYPE=image/jpeg:https://ntcogyouthja.com/wp-content/uploads/2023/11/WhatsApp-Image-2023-11-22-at-18.23.56_89eb7cd4.jpg
END:VEVENT
BEGIN:VEVENT
DTSTART;TZID=America/New_York:20231111T190000
DTEND;TZID=America/New_York:20231111T210000
DTSTAMP:20260425T162413
CREATED:20221222T192402Z
LAST-MODIFIED:20231025T165800Z
UID:2146-1699729200-1699736400@ntcogyouthja.com
SUMMARY:God Style Lifestyle Training for Youth Evangelism
DESCRIPTION:
URL:https://ntcogyouthja.com/event/god-style-lifestyle/
LOCATION:Virtual
CATEGORIES:National Youth & Discipleship
ATTACH;FMTTYPE=image/jpeg:https://ntcogyouthja.com/wp-content/uploads/2023/10/WhatsApp-Image-2023-10-24-at-11.26.27_a6c13671.jpg
END:VEVENT
BEGIN:VEVENT
DTSTART;TZID=UTC:20231104T090000
DTEND;TZID=UTC:20231104T170000
DTSTAMP:20260425T162413
CREATED:20231004T024158Z
LAST-MODIFIED:20231004T024244Z
UID:5636-1699088400-1699117200@ntcogyouthja.com
SUMMARY:Talent Showcase Workshop - Part 1
DESCRIPTION:
URL:https://ntcogyouthja.com/event/talent-showcase-workshop/
LOCATION:Portmore New Testament Church of God\, Jamaica
CATEGORIES:Talent Showcase
END:VEVENT
BEGIN:VEVENT
DTSTART;TZID=UTC:20231102T190000
DTEND;TZID=UTC:20231102T210000
DTSTAMP:20260425T162413
CREATED:20231022T223159Z
LAST-MODIFIED:20231022T223159Z
UID:5765-1698951600-1698958800@ntcogyouthja.com
SUMMARY:Mary and Martha Series
DESCRIPTION:
URL:https://ntcogyouthja.com/event/mary-and-martha-series-3/
LOCATION:Virtual
CATEGORIES:Young Adults
ATTACH;FMTTYPE=image/jpeg:https://ntcogyouthja.com/wp-content/uploads/2023/10/WhatsApp-Image-2023-10-17-at-15.23.01_7f10739e.jpg
END:VEVENT
BEGIN:VEVENT
DTSTART;TZID=UTC:20231031T190000
DTEND;TZID=UTC:20231031T210000
DTSTAMP:20260425T162413
CREATED:20231022T223048Z
LAST-MODIFIED:20231022T223048Z
UID:5762-1698778800-1698786000@ntcogyouthja.com
SUMMARY:Mary and Martha Series
DESCRIPTION:
URL:https://ntcogyouthja.com/event/mary-and-martha-series-2/
LOCATION:Virtual
CATEGORIES:Young Adults
ATTACH;FMTTYPE=image/jpeg:https://ntcogyouthja.com/wp-content/uploads/2023/10/WhatsApp-Image-2023-10-17-at-15.23.00_a6e81b23.jpg
END:VEVENT
BEGIN:VEVENT
DTSTART;TZID=UTC:20231029T103000
DTEND;TZID=UTC:20231029T130000
DTSTAMP:20260425T162413
CREATED:20221019T103121Z
LAST-MODIFIED:20231025T170216Z
UID:2072-1698575400-1698584400@ntcogyouthja.com
SUMMARY:NTSM Western Service
DESCRIPTION:
URL:https://ntcogyouthja.com/event/ntsm-western-service/
CATEGORIES:NTSM
ATTACH;FMTTYPE=image/jpeg:https://ntcogyouthja.com/wp-content/uploads/2023/10/WhatsApp-Image-2023-10-25-at-10.12.47_0f0f1411.jpg
END:VEVENT
BEGIN:VEVENT
DTSTART;TZID=UTC:20231028T080000
DTEND;TZID=UTC:20231028T170000
DTSTAMP:20260425T162413
CREATED:20221014T145707Z
LAST-MODIFIED:20230913T200711Z
UID:2020-1698480000-1698512400@ntcogyouthja.com
SUMMARY:NTSM Apologetic Session
DESCRIPTION:
URL:https://ntcogyouthja.com/event/ntsm-apologetic-session/
LOCATION:TBA
CATEGORIES:NTSM
END:VEVENT
BEGIN:VEVENT
DTSTART;TZID=UTC:20231026T190000
DTEND;TZID=UTC:20231026T210000
DTSTAMP:20260425T162413
CREATED:20231022T222809Z
LAST-MODIFIED:20231022T222809Z
UID:5758-1698346800-1698354000@ntcogyouthja.com
SUMMARY:Mary and Martha House Series
DESCRIPTION:
URL:https://ntcogyouthja.com/event/mary-and-martha-house-series/
LOCATION:Virtual
CATEGORIES:Young Adults
ATTACH;FMTTYPE=image/jpeg:https://ntcogyouthja.com/wp-content/uploads/2023/10/WhatsApp-Image-2023-10-17-at-15.23.00_329c9665.jpg
END:VEVENT
BEGIN:VEVENT
DTSTART;TZID=UTC:20231024T190000
DTEND;TZID=UTC:20231024T210000
DTSTAMP:20260425T162413
CREATED:20231022T222928Z
LAST-MODIFIED:20231022T222928Z
UID:5760-1698174000-1698181200@ntcogyouthja.com
SUMMARY:Mary and Martha Series
DESCRIPTION:
URL:https://ntcogyouthja.com/event/mary-and-martha-series/
LOCATION:Virtual
CATEGORIES:Young Adults
ATTACH;FMTTYPE=image/jpeg:https://ntcogyouthja.com/wp-content/uploads/2023/10/WhatsApp-Image-2023-10-17-at-15.23.00_639f79e3.jpg
END:VEVENT
BEGIN:VEVENT
DTSTART;TZID=UTC:20231014T090000
DTEND;TZID=UTC:20231014T140000
DTSTAMP:20260425T162413
CREATED:20230913T204351Z
LAST-MODIFIED:20230921T175514Z
UID:5603-1697274000-1697292000@ntcogyouthja.com
SUMMARY:Central Regional District\, Local & Workers Training
DESCRIPTION:
URL:https://ntcogyouthja.com/event/central-regional-district-local-workers-training/
LOCATION:Mandeville New Testament Church of God\, Mandeville\, Manchester
CATEGORIES:National Youth & Discipleship
ATTACH;FMTTYPE=image/jpeg:https://ntcogyouthja.com/wp-content/uploads/2022/10/Regional-Training.jpg
END:VEVENT
BEGIN:VEVENT
DTSTART;TZID=UTC:20231014T090000
DTEND;TZID=UTC:20231014T140000
DTSTAMP:20260425T162413
CREATED:20230913T204234Z
LAST-MODIFIED:20230921T175629Z
UID:5601-1697274000-1697292000@ntcogyouthja.com
SUMMARY:Eastern Regional District\, Local & Workers Training
DESCRIPTION:
URL:https://ntcogyouthja.com/event/eastern-regional-district-local-workers-training-2/
LOCATION:Waltham Park Road NTCOG
CATEGORIES:National Youth & Discipleship
ATTACH;FMTTYPE=image/jpeg:https://ntcogyouthja.com/wp-content/uploads/2022/10/Regional-Training.jpg
END:VEVENT
BEGIN:VEVENT
DTSTART;TZID=UTC:20231014T090000
DTEND;TZID=UTC:20231014T140000
DTSTAMP:20260425T162413
CREATED:20221014T212404Z
LAST-MODIFIED:20230921T175539Z
UID:2046-1697274000-1697292000@ntcogyouthja.com
SUMMARY:North Eastern Regional District\, Local & Workers Training
DESCRIPTION:
URL:https://ntcogyouthja.com/event/north-eastern-regional-district-local-workers-training/
LOCATION:Oracabessa Church
CATEGORIES:National Youth & Discipleship
ATTACH;FMTTYPE=image/jpeg:https://ntcogyouthja.com/wp-content/uploads/2022/10/Regional-Training.jpg
END:VEVENT
BEGIN:VEVENT
DTSTART;TZID=UTC:20231014T090000
DTEND;TZID=UTC:20231014T140000
DTSTAMP:20260425T162413
CREATED:20221014T211431Z
LAST-MODIFIED:20230921T175431Z
UID:2034-1697274000-1697292000@ntcogyouthja.com
SUMMARY:Western Regional District\, Local & Workers Training
DESCRIPTION:
URL:https://ntcogyouthja.com/event/western-regional-district-local-workers-training/
LOCATION:Montego Bay Church
CATEGORIES:National Youth & Discipleship
ATTACH;FMTTYPE=image/jpeg:https://ntcogyouthja.com/wp-content/uploads/2022/10/Regional-Training.jpg
END:VEVENT
BEGIN:VEVENT
DTSTART;TZID=UTC:20231004T080000
DTEND;TZID=UTC:20231004T170000
DTSTAMP:20260425T162413
CREATED:20231004T183800Z
LAST-MODIFIED:20231004T183800Z
UID:5673-1696406400-1696438800@ntcogyouthja.com
SUMMARY:Fast\, Pray\, Walk\, Play (Youth Evangelism)
DESCRIPTION:
URL:https://ntcogyouthja.com/event/fast-pray-walk-play-youth-evangelism/
LOCATION:TBA
CATEGORIES:National Youth & Discipleship
END:VEVENT
BEGIN:VEVENT
DTSTART;TZID=UTC:20230928T193000
DTEND;TZID=UTC:20230928T210000
DTSTAMP:20260425T162413
CREATED:20230921T180251Z
LAST-MODIFIED:20230921T180251Z
UID:5609-1695929400-1695934800@ntcogyouthja.com
SUMMARY:NTSM Student Linkz
DESCRIPTION:
URL:https://ntcogyouthja.com/event/ntsm-student-linkz/
LOCATION:Virtual
CATEGORIES:NTSM
ATTACH;FMTTYPE=image/jpeg:https://ntcogyouthja.com/wp-content/uploads/2022/10/IMG-20230920-WA0006.jpg
END:VEVENT
BEGIN:VEVENT
DTSTART;TZID=UTC:20230915T080000
DTEND;TZID=UTC:20230915T170000
DTSTAMP:20260425T162413
CREATED:20230912T190235Z
LAST-MODIFIED:20230912T190534Z
UID:5590-1694764800-1694797200@ntcogyouthja.com
SUMMARY:District Directors Retreat
DESCRIPTION:
URL:https://ntcogyouthja.com/event/district-directors-retreat/
LOCATION:National Campsite
CATEGORIES:National Youth & Discipleship
END:VEVENT
BEGIN:VEVENT
DTSTART;TZID=UTC:20230910T103000
DTEND;TZID=UTC:20230910T123000
DTSTAMP:20260425T162413
CREATED:20230829T154633Z
LAST-MODIFIED:20230829T154633Z
UID:5580-1694341800-1694349000@ntcogyouthja.com
SUMMARY:2023-2024 Church Year Launch
DESCRIPTION:
URL:https://ntcogyouthja.com/event/2023-2024-church-year-launch/
LOCATION:McDonald Lane\, Jamaica
CATEGORIES:National Youth & Discipleship
ATTACH;FMTTYPE=image/jpeg:https://ntcogyouthja.com/wp-content/uploads/2023/08/WhatsApp-Image-2023-08-17-at-08.55.54.jpg
END:VEVENT
BEGIN:VEVENT
DTSTART;VALUE=DATE:20230803
DTEND;VALUE=DATE:20230807
DTSTAMP:20260425T162413
CREATED:20230217T013112Z
LAST-MODIFIED:20230524T144203Z
UID:2358-1691020800-1691366399@ntcogyouthja.com
SUMMARY:NYAM Board Retreat
DESCRIPTION:NYAM Board Retreat
URL:https://ntcogyouthja.com/event/nyam-board-retreat/
LOCATION:TBA
CATEGORIES:National Youth & Discipleship,Young Adults
ATTACH;FMTTYPE=image/jpeg:https://ntcogyouthja.com/wp-content/uploads/2023/02/WhatsApp-Image-2023-05-24-at-08.53.14.jpg
END:VEVENT
END:VCALENDAR